BEGIN:VCALENDAR
VERSION:2.0
PRODID:-//The Dhakachat - ECPv6.15.13//NONSGML v1.0//EN
CALSCALE:GREGORIAN
METHOD:PUBLISH
X-ORIGINAL-URL:https://thedhakachat.com
X-WR-CALDESC:Events for The Dhakachat
REFRESH-INTERVAL;VALUE=DURATION:PT1H
X-Robots-Tag:noindex
X-PUBLISHED-TTL:PT1H
BEGIN:VTIMEZONE
TZID:Asia/Dhaka
BEGIN:STANDARD
TZOFFSETFROM:+0600
TZOFFSETTO:+0600
TZNAME:+06
DTSTART:20240101T000000
END:STANDARD
END:VTIMEZONE
BEGIN:VEVENT
DTSTART;TZID=Asia/Dhaka:20250817T080000
DTEND;TZID=Asia/Dhaka:20250817T170000
DTSTAMP:20260420T185035
CREATED:20250817T060642Z
LAST-MODIFIED:20250817T060642Z
UID:865-1755417600-1755450000@thedhakachat.com
SUMMARY:Fortnightly E-magazine – 15 August\, 2025
DESCRIPTION:E-Magazine DhakaChat
URL:https://thedhakachat.com/e-paper/fortnightly-e-magazine-15-august-2025
CATEGORIES:E-magazine
ATTACH;FMTTYPE=image/jpeg:https://thedhakachat.com/wp-content/uploads/2025/08/E-Magazine-DhakaChat-.jpg
END:VEVENT
END:VCALENDAR